BEGIN:VCALENDAR
VERSION:2.0
PRODID:-//Lahmuse Kool - ECPv6.11.2.1//NONSGML v1.0//EN
CALSCALE:GREGORIAN
METHOD:PUBLISH
X-ORIGINAL-URL:https://www.lahmuse.edu.ee
X-WR-CALDESC:Events for Lahmuse Kool
REFRESH-INTERVAL;VALUE=DURATION:PT1H
X-Robots-Tag:noindex
X-PUBLISHED-TTL:PT1H
BEGIN:VTIMEZONE
TZID:Europe/Tallinn
BEGIN:DAYLIGHT
TZOFFSETFROM:+0200
TZOFFSETTO:+0300
TZNAME:EEST
DTSTART:20200329T010000
END:DAYLIGHT
BEGIN:STANDARD
TZOFFSETFROM:+0300
TZOFFSETTO:+0200
TZNAME:EET
DTSTART:20201025T010000
END:STANDARD
END:VTIMEZONE
BEGIN:VEVENT
DTSTART;TZID=Europe/Tallinn:20200303T080000
DTEND;TZID=Europe/Tallinn:20200304T170000
DTSTAMP:20260420T161443
CREATED:20200206T132831Z
LAST-MODIFIED:20200206T132831Z
UID:642-1583222400-1583341200@www.lahmuse.edu.ee
SUMMARY:Suusavõistlus Otepääl
DESCRIPTION:
URL:https://www.lahmuse.edu.ee/kalender/suusavoistlus-otepaal/
END:VEVENT
BEGIN:VEVENT
DTSTART;TZID=Europe/Tallinn:20200313T110000
DTEND;TZID=Europe/Tallinn:20200313T120000
DTSTAMP:20260420T161443
CREATED:20200206T133011Z
LAST-MODIFIED:20200206T133011Z
UID:644-1584097200-1584100800@www.lahmuse.edu.ee
SUMMARY:Piip ja Tuut püstijalakomöödia "Loomad"
DESCRIPTION:
URL:https://www.lahmuse.edu.ee/kalender/piip-ja-tuut-pustijalakomoodia-loomad/
END:VEVENT
BEGIN:VEVENT
DTSTART;TZID=Europe/Tallinn:20200319T110000
DTEND;TZID=Europe/Tallinn:20200319T170000
DTSTAMP:20260420T161443
CREATED:20200206T133308Z
LAST-MODIFIED:20200206T133308Z
UID:646-1584615600-1584637200@www.lahmuse.edu.ee
SUMMARY:Lauluvõistlus Kaja Kultuurikeskuses Tallinnas
DESCRIPTION:
URL:https://www.lahmuse.edu.ee/kalender/lauluvoistlus-kaja-kultuurikeskuses-tallinnas/
END:VEVENT
END:VCALENDAR