BEGIN:VCALENDAR
VERSION:2.0
PRODID:-//Lahmuse Kool - ECPv6.11.2.1//NONSGML v1.0//EN
CALSCALE:GREGORIAN
METHOD:PUBLISH
X-ORIGINAL-URL:https://www.lahmuse.edu.ee
X-WR-CALDESC:Events for Lahmuse Kool
REFRESH-INTERVAL;VALUE=DURATION:PT1H
X-Robots-Tag:noindex
X-PUBLISHED-TTL:PT1H
BEGIN:VTIMEZONE
TZID:Europe/Tallinn
BEGIN:DAYLIGHT
TZOFFSETFROM:+0200
TZOFFSETTO:+0300
TZNAME:EEST
DTSTART:20200329T010000
END:DAYLIGHT
BEGIN:STANDARD
TZOFFSETFROM:+0300
TZOFFSETTO:+0200
TZNAME:EET
DTSTART:20201025T010000
END:STANDARD
END:VTIMEZONE
BEGIN:VEVENT
DTSTART;VALUE=DATE:20200217
DTEND;VALUE=DATE:20200218
DTSTAMP:20260420T145947
CREATED:20200206T132428Z
LAST-MODIFIED:20200206T132428Z
UID:634-1581897600-1581983999@www.lahmuse.edu.ee
SUMMARY:Teater Vanemuine "Kuldse liilia saladus"
DESCRIPTION:
URL:https://www.lahmuse.edu.ee/kalender/teater-vanemuine-kuldse-liilia-saladus/
END:VEVENT
BEGIN:VEVENT
DTSTART;TZID=Europe/Tallinn:20200218T100000
DTEND;TZID=Europe/Tallinn:20200218T130000
DTSTAMP:20260420T145947
CREATED:20200206T132516Z
LAST-MODIFIED:20200206T132516Z
UID:636-1582020000-1582030800@www.lahmuse.edu.ee
SUMMARY:Ämmuste koolis vastlamöll
DESCRIPTION:
URL:https://www.lahmuse.edu.ee/kalender/ammuste-koolis-vastlamoll/
END:VEVENT
BEGIN:VEVENT
DTSTART;VALUE=DATE:20200219
DTEND;VALUE=DATE:20200220
DTSTAMP:20260420T145947
CREATED:20200206T132616Z
LAST-MODIFIED:20200206T132616Z
UID:638-1582070400-1582156799@www.lahmuse.edu.ee
SUMMARY:Eriolümpia tänuüritus Tartu V-Spas
DESCRIPTION:
URL:https://www.lahmuse.edu.ee/kalender/eriolumpia-tanuuritus-tartu-v-spas/
END:VEVENT
BEGIN:VEVENT
DTSTART;TZID=Europe/Tallinn:20200220T190000
DTEND;TZID=Europe/Tallinn:20200220T210000
DTSTAMP:20260420T145947
CREATED:20200206T132745Z
LAST-MODIFIED:20200206T132745Z
UID:640-1582225200-1582232400@www.lahmuse.edu.ee
SUMMARY:Ugala Teater  "Kui me nüüd ei sure\, ei sure me kunagi"
DESCRIPTION:
URL:https://www.lahmuse.edu.ee/kalender/ugala-teater-kui-me-nuud-ei-sure-ei-sure-me-kunagi/
END:VEVENT
END:VCALENDAR