BEGIN:VCALENDAR
VERSION:2.0
PRODID:-//Lahmuse Kool - ECPv6.11.2.1//NONSGML v1.0//EN
CALSCALE:GREGORIAN
METHOD:PUBLISH
X-WR-CALNAME:Lahmuse Kool
X-ORIGINAL-URL:https://www.lahmuse.edu.ee
X-WR-CALDESC:Events for Lahmuse Kool
REFRESH-INTERVAL;VALUE=DURATION:PT1H
X-Robots-Tag:noindex
X-PUBLISHED-TTL:PT1H
BEGIN:VTIMEZONE
TZID:Europe/Tallinn
BEGIN:DAYLIGHT
TZOFFSETFROM:+0200
TZOFFSETTO:+0300
TZNAME:EEST
DTSTART:20200329T010000
END:DAYLIGHT
BEGIN:STANDARD
TZOFFSETFROM:+0300
TZOFFSETTO:+0200
TZNAME:EET
DTSTART:20201025T010000
END:STANDARD
END:VTIMEZONE
BEGIN:VEVENT
DTSTART;TZID=Europe/Tallinn:20200113T120000
DTEND;TZID=Europe/Tallinn:20200113T140000
DTSTAMP:20260420T132608
CREATED:20200106T091341Z
LAST-MODIFIED:20200106T091341Z
UID:617-1578916800-1578924000@www.lahmuse.edu.ee
SUMMARY:Ugala teatrisse vaatama etendust "Onu Remuse jutte"
DESCRIPTION:
URL:https://www.lahmuse.edu.ee/kalender/ugala-teatrisse-vaatama-etendust-onu-remuse-jutte/
END:VEVENT
BEGIN:VEVENT
DTSTART;VALUE=DATE:20200114
DTEND;VALUE=DATE:20200115
DTSTAMP:20260420T132608
CREATED:20200106T091604Z
LAST-MODIFIED:20200106T091604Z
UID:619-1578960000-1579046399@www.lahmuse.edu.ee
SUMMARY:3 x 3 ühendav korvpalliturniir Lahmusel
DESCRIPTION:EO Eesti Ühendus korraldab 3 x 3 ühendava korvpalli turniiri\, mis toimub 14.jaanuaril\, algusega kell 10.00 Lahmusel.
URL:https://www.lahmuse.edu.ee/kalender/3-x-3-uhendav-korvpalliturniir-lahmusel/
END:VEVENT
BEGIN:VEVENT
DTSTART;TZID=Europe/Tallinn:20200129T120000
DTEND;TZID=Europe/Tallinn:20200129T153000
DTSTAMP:20260420T132608
CREATED:20200106T091939Z
LAST-MODIFIED:20200106T091939Z
UID:621-1580299200-1580311800@www.lahmuse.edu.ee
SUMMARY:Endla teatrisse vaatama "Oliver Twist"
DESCRIPTION:9. klass ja lisa-aasta lähevad Endla teatrisse vaatama etendust "Oliver Twist"
URL:https://www.lahmuse.edu.ee/kalender/endla-teatrisse-vaatama-oliver-twist/
END:VEVENT
END:VCALENDAR