BEGIN:VCALENDAR
VERSION:2.0
PRODID:-//Lahmuse Kool - ECPv6.11.2.1//NONSGML v1.0//EN
CALSCALE:GREGORIAN
METHOD:PUBLISH
X-WR-CALNAME:Lahmuse Kool
X-ORIGINAL-URL:https://www.lahmuse.edu.ee
X-WR-CALDESC:Events for Lahmuse Kool
REFRESH-INTERVAL;VALUE=DURATION:PT1H
X-Robots-Tag:noindex
X-PUBLISHED-TTL:PT1H
BEGIN:VTIMEZONE
TZID:Europe/Tallinn
BEGIN:DAYLIGHT
TZOFFSETFROM:+0200
TZOFFSETTO:+0300
TZNAME:EEST
DTSTART:20190331T010000
END:DAYLIGHT
BEGIN:STANDARD
TZOFFSETFROM:+0300
TZOFFSETTO:+0200
TZNAME:EET
DTSTART:20191027T010000
END:STANDARD
END:VTIMEZONE
BEGIN:VEVENT
DTSTART;TZID=Europe/Tallinn:20190606T170000
DTEND;TZID=Europe/Tallinn:20190606T170000
DTSTAMP:20260420T143934
CREATED:20181015T082639Z
LAST-MODIFIED:20190531T172943Z
UID:490-1559840400-1559840400@www.lahmuse.edu.ee
SUMMARY:Kevadpidu
DESCRIPTION:
URL:https://www.lahmuse.edu.ee/kalender/kevadpidu/
END:VEVENT
BEGIN:VEVENT
DTSTART;VALUE=DATE:20190611
DTEND;VALUE=DATE:20190612
DTSTAMP:20260420T143934
CREATED:20181015T082808Z
LAST-MODIFIED:20181015T082808Z
UID:494-1560211200-1560297599@www.lahmuse.edu.ee
SUMMARY:Viimane koolipäev
DESCRIPTION:
URL:https://www.lahmuse.edu.ee/kalender/viimane-koolipaev/
END:VEVENT
BEGIN:VEVENT
DTSTART;TZID=Europe/Tallinn:20190614T140000
DTEND;TZID=Europe/Tallinn:20190614T140000
DTSTAMP:20260420T143934
CREATED:20181015T082730Z
LAST-MODIFIED:20190531T172811Z
UID:492-1560520800-1560520800@www.lahmuse.edu.ee
SUMMARY:Lõpuaktus
DESCRIPTION:Aktus algab kell 14:00
URL:https://www.lahmuse.edu.ee/kalender/lopuaktus/
END:VEVENT
END:VCALENDAR