BEGIN:VCALENDAR
VERSION:2.0
PRODID:-//Lahmuse Kool - ECPv6.11.2.1//NONSGML v1.0//EN
CALSCALE:GREGORIAN
METHOD:PUBLISH
X-ORIGINAL-URL:https://www.lahmuse.edu.ee
X-WR-CALDESC:Events for Lahmuse Kool
REFRESH-INTERVAL;VALUE=DURATION:PT1H
X-Robots-Tag:noindex
X-PUBLISHED-TTL:PT1H
BEGIN:VTIMEZONE
TZID:Europe/Tallinn
BEGIN:DAYLIGHT
TZOFFSETFROM:+0200
TZOFFSETTO:+0300
TZNAME:EEST
DTSTART:20200329T010000
END:DAYLIGHT
BEGIN:STANDARD
TZOFFSETFROM:+0300
TZOFFSETTO:+0200
TZNAME:EET
DTSTART:20201025T010000
END:STANDARD
END:VTIMEZONE
BEGIN:VEVENT
DTSTART;VALUE=DATE:20200114
DTEND;VALUE=DATE:20200115
DTSTAMP:20260420T144856
CREATED:20200106T091604Z
LAST-MODIFIED:20200106T091604Z
UID:619-1578960000-1579046399@www.lahmuse.edu.ee
SUMMARY:3 x 3 ühendav korvpalliturniir Lahmusel
DESCRIPTION:EO Eesti Ühendus korraldab 3 x 3 ühendava korvpalli turniiri\, mis toimub 14.jaanuaril\, algusega kell 10.00 Lahmusel.
URL:https://www.lahmuse.edu.ee/kalender/3-x-3-uhendav-korvpalliturniir-lahmusel/
END:VEVENT
END:VCALENDAR